BEGIN:VCALENDAR
VERSION:2.0
PRODID:-//JeCréeMonJob.be - ECPv6.15.20//NONSGML v1.0//EN
CALSCALE:GREGORIAN
METHOD:PUBLISH
X-WR-CALNAME:JeCréeMonJob.be
X-ORIGINAL-URL:https://jecreemonjob.be
X-WR-CALDESC:Évènements pour JeCréeMonJob.be
REFRESH-INTERVAL;VALUE=DURATION:PT1H
X-Robots-Tag:noindex
X-PUBLISHED-TTL:PT1H
BEGIN:VTIMEZONE
TZID:UTC
BEGIN:STANDARD
TZOFFSETFROM:+0000
TZOFFSETTO:+0000
TZNAME:UTC
DTSTART:20230101T000000
END:STANDARD
END:VTIMEZONE
BEGIN:VEVENT
DTSTART;TZID=UTC:20240819T133000
DTEND;TZID=UTC:20240819T153000
DTSTAMP:20260420T025919
CREATED:20240514T145027Z
LAST-MODIFIED:20240717T120649Z
UID:4942-1724074200-1724081400@jecreemonjob.be
SUMMARY:Séance d'information JECRÉEMONJOB.be - Philippeville
DESCRIPTION:Porte d’entrée de l’accompagnement JECRÉEMONJOB.be \nUn conseiller vous expliquera les étapes à franchir pour lancer votre activité\, les raisons de suivre un accompagnement\, les risques liés à la création de votre activité\, les erreurs à ne pas commettre\, les questions à vous poser\, les aides à votre disposition\, et surtout le déroulement de votre accompagnement chez JECRÉEMONJOB.be \nNotre séance d’information est gratuite. Merci de vous inscrire. \nS’incrire\nVous recevrez un message de confirmation par mail. Attention il arrive qu’il se retrouve dans le « courrier indésirable ». \nAttention\, si l’évènement est complet\, vous devriez être redirigé(e) vers la page d’accueil.
URL:https://jecreemonjob.be/agenda/seance-dinformation-jecreemonjob-be-philippeville-3/
LOCATION:Bureau de Philippeville\, Rue de Namur\, 1A\, Philippeville\, -\, 5600\, Belgique
CATEGORIES:Séances d'information
ATTACH;FMTTYPE=image/jpeg:https://jecreemonjob.be/wp-content/uploads/2020/09/image-SI-Philippeville450.jpg
END:VEVENT
END:VCALENDAR