BEGIN:VCALENDAR
VERSION:2.0
PRODID:-//JeCréeMonJob.be - ECPv6.15.20//NONSGML v1.0//EN
CALSCALE:GREGORIAN
METHOD:PUBLISH
X-WR-CALNAME:JeCréeMonJob.be
X-ORIGINAL-URL:https://jecreemonjob.be
X-WR-CALDESC:Évènements pour JeCréeMonJob.be
REFRESH-INTERVAL;VALUE=DURATION:PT1H
X-Robots-Tag:noindex
X-PUBLISHED-TTL:PT1H
BEGIN:VTIMEZONE
TZID:UTC
BEGIN:STANDARD
TZOFFSETFROM:+0000
TZOFFSETTO:+0000
TZNAME:UTC
DTSTART:20210101T000000
END:STANDARD
END:VTIMEZONE
BEGIN:VEVENT
DTSTART;TZID=UTC:20221004T093000
DTEND;TZID=UTC:20221004T123000
DTSTAMP:20260424T213134
CREATED:20201007T081553Z
LAST-MODIFIED:20201007T081553Z
UID:2872-1664875800-1664886600@jecreemonjob.be
SUMMARY:Formation: Je détermine mon profil d'entrepreneur
DESCRIPTION:Quels sont mes atouts et mes faiblesses pour ce projet?\nQuelles actions pour remédier à mes points faibles?\nComment trouver mon équilibre vie privée/ vie professionnelle?\n\n \nAvec les chèques-formation à la création d’entreprise\, Jecréemonjob.be Vous propose un module de formation en ligne de 3h pour faire le tour de la question. \nFormation proposée dans le cadre du  système des Chèques-formation à la création d’entreprise. \nModule gratuit dans le cadre d’un accompagnement (6€/h hors accompagnement\, 30€/h hors conditions chèques création) \nRenseignez-vous auprès de votre conseillers pour les modalités d’inscription \n(8h sont offertes aux membres du CLUBJECREEMONJOB.be) \n  \n 
URL:https://jecreemonjob.be/agenda/formation-je-determine-mon-profil-dentrepreneur-en-ligne-2021-02-01-2022-10-04/
LOCATION:Site de Charleroi\, 24\, avenue des Alliés\, Charleroi\, 6000\, Belgique
CATEGORIES:Formations
ATTACH;FMTTYPE=image/png:https://jecreemonjob.be/wp-content/uploads/2020/10/1.-Profil.png
ORGANIZER;CN="JECR%C3%89EMONJOB.be":MAILTO:contact@jecreemonjob.be
END:VEVENT
BEGIN:VEVENT
DTSTART;TZID=UTC:20221007T083000
DTEND;TZID=UTC:20221007T123000
DTSTAMP:20260424T213134
CREATED:20201007T084904Z
LAST-MODIFIED:20201007T084904Z
UID:2803-1665131400-1665145800@jecreemonjob.be
SUMMARY:Formation: Construire mon projet en gérant mon stress
DESCRIPTION:Faire face aux situations stressantes de l’élaboration d’un projet \nComprendre les sources\, les mécanismes biologiques et psychologiques du stress \nConnaitre et appliquer efficacement les techniques et méthodes pour lutter contre le stress \n\n \nAvec les chèques-formation à la création d’entreprise\, Jecréemonjob.be Vous propose un module de formation de 6h pour faire le tour de la question. \nFormation proposée dans le cadre du  système des Chèques-formation à la création d’entreprise. \nModule gratuit dans le cadre d’un accompagnement (6€/h hors accompagnement\, 30€/h hors conditions chèques création) \nRenseignez-vous auprès de votre conseillers ou de notre secrétariat pour les modalités d’inscription. \n(8h sont offertes aux membres du CLUBJECREEMONJOB.be)
URL:https://jecreemonjob.be/agenda/formation-construire-mon-projet-en-gerant-mon-stress-2022-10-07/
LOCATION:Site de Charleroi\, 24\, avenue des Alliés\, Charleroi\, 6000\, Belgique
CATEGORIES:Formations
ATTACH;FMTTYPE=image/png:https://jecreemonjob.be/wp-content/uploads/2020/10/12.-Gerer-mon-stress.png
ORGANIZER;CN="JECR%C3%89EMONJOB.be":MAILTO:contact@jecreemonjob.be
END:VEVENT
BEGIN:VEVENT
DTSTART;TZID=UTC:20221011T083000
DTEND;TZID=UTC:20221011T123000
DTSTAMP:20260424T213134
CREATED:20201218T113958Z
LAST-MODIFIED:20201218T113958Z
UID:2866-1665477000-1665491400@jecreemonjob.be
SUMMARY:Formation: Je décode mon marché
DESCRIPTION:À qui proposer mes produits et services? À quel prix?\nComment réaliser une étude de marché de manière efficace?\nComment négocier avec mes concurrents et fournisseurs?\n\n \nAvec les chèques-formation à la création d’entreprise\, Jecréemonjob.be Vous propose un module de formation en ligne de 4h pour faire le tour de la question. \nFormation proposée dans le cadre du  système des Chèques-formation à la création d’entreprise. \nModule gratuit dans le cadre d’un accompagnement (6€/h hors accompagnement\, 30€/h hors conditions chèques création) \nRenseignez-vous auprès de votre conseillers ou de notre secrétariat pour les modalités d’inscription. \n(8h sont offertes aux membres du CLUBJECREEMONJOB.be)
URL:https://jecreemonjob.be/agenda/formation-je-decode-mon-marche-en-ligne-2-2022-10-11/
LOCATION:Site de Charleroi\, 24\, avenue des Alliés\, Charleroi\, 6000\, Belgique
CATEGORIES:Formations
ATTACH;FMTTYPE=image/png:https://jecreemonjob.be/wp-content/uploads/2020/10/2.-mon-marche.png
ORGANIZER;CN="JECR%C3%89EMONJOB.be":MAILTO:contact@jecreemonjob.be
END:VEVENT
BEGIN:VEVENT
DTSTART;TZID=UTC:20221014T083000
DTEND;TZID=UTC:20221014T123000
DTSTAMP:20260424T213134
CREATED:20201218T113745Z
LAST-MODIFIED:20201218T113745Z
UID:2671-1665736200-1665750600@jecreemonjob.be
SUMMARY:Formation: Apprendre à négocier
DESCRIPTION:Quels sont les enjeux d’une négociation et ses implications sur mon activité?\nComment va-t-elle se dérouler et comment m’y préparer?\nQuels outils et méthodes efficaces employer?\n\n \nAvec les chèques-formation à la création d’entreprise\, Jecréemonjob.be Vous propose un module de formation de 4h pour faire le tour de la question. \nFormation proposée dans le cadre du  système des Chèques-formation à la création d’entreprise. \nModule gratuit dans le cadre d’un accompagnement (6€/h hors accompagnement\, 30€/h hors conditions chèques création) \nRenseignez-vous auprès de votre conseillers pour les modalités d’inscription \n(8h sont offertes aux membres du CLUBJECREEMONJOB.be)
URL:https://jecreemonjob.be/agenda/formation-apprendre-a-negocier-en-ligne-2-2022-10-14/
LOCATION:Site de Charleroi\, 24\, avenue des Alliés\, Charleroi\, 6000\, Belgique
CATEGORIES:Formations
ATTACH;FMTTYPE=image/png:https://jecreemonjob.be/wp-content/uploads/2020/10/6.-Negocier.png
ORGANIZER;CN="JECR%C3%89EMONJOB.be":MAILTO:contact@jecreemonjob.be
END:VEVENT
BEGIN:VEVENT
DTSTART;TZID=UTC:20221018T083000
DTEND;TZID=UTC:20221018T123000
DTSTAMP:20260424T213134
CREATED:20201007T091036Z
LAST-MODIFIED:20201007T091036Z
UID:2847-1666081800-1666096200@jecreemonjob.be
SUMMARY:Formation: J'établis mon plan financier
DESCRIPTION:Je calcule mes ventes et charges prévisionnelles\nJe maîtrise mon prix de revient\nJe dispose d’indicateurs simples de rentabilité\n\n \nAvec les chèques-formation à la création d’entreprise\, Jecréemonjob.be Vous propose un module de formation en ligne de 4h pour faire le tour de la question. \nFormation proposée dans le cadre du  système des Chèques-formation à la création d’entreprise. \nModule gratuit dans le cadre d’un accompagnement (6€/h hors accompagnement\, 30€/h hors conditions chèques création) \nRenseignez-vous auprès de votre conseillers pour les modalités d’inscription \n(8h sont offertes aux membres du CLUBJECREEMONJOB.be)
URL:https://jecreemonjob.be/agenda/formation-jetablis-mon-plan-financier-en-ligne-2022-10-18/
LOCATION:En ligne (via lien Teams)
CATEGORIES:Formations
ATTACH;FMTTYPE=image/png:https://jecreemonjob.be/wp-content/uploads/2020/10/3.-plan-financier.png
ORGANIZER;CN="JECR%C3%89EMONJOB.be":MAILTO:contact@jecreemonjob.be
END:VEVENT
BEGIN:VEVENT
DTSTART;TZID=UTC:20221019T083000
DTEND;TZID=UTC:20221019T163000
DTSTAMP:20260424T213134
CREATED:20201218T120633Z
LAST-MODIFIED:20201218T120633Z
UID:2697-1666168200-1666197000@jecreemonjob.be
SUMMARY:Formation: Quel réseau social exploiter pour mon projet ?
DESCRIPTION:Quels sont mes forces\, mes besoins et mon degré d’interdépendance avec les autres\, ?\nQuels réseaux me seront les plus utiles ? Lesquels développer ?\nComment planifier la mise en œuvre d’actions concrètes ?\n\n \nAvec les chèques-formation à la création d’entreprise\, Jecréemonjob.be Vous propose un module de formation en ligne de 4h pour faire le tour de la question. \nFormation proposée dans le cadre du  système des Chèques-formation à la création d’entreprise. \nModule gratuit dans le cadre d’un accompagnement (6€/h hors accompagnement\, 30€/h hors conditions chèques création) \nRenseignez-vous auprès de votre conseillers pour les modalités d’inscription \n(8h sont offertes aux membres du CLUBJECREEMONJOB.be)
URL:https://jecreemonjob.be/agenda/formation-jexploite-les-reseaux-2022-10-19/
LOCATION:Bureau de Charleroi\, Avenue des Alliés\, 24\, Charleroi\, Hainaut\, 6000\, Belgique
CATEGORIES:Formations
ATTACH;FMTTYPE=image/png:https://jecreemonjob.be/wp-content/uploads/2020/10/10.-exploite-les-reseaux.png
ORGANIZER;CN="JECR%C3%89EMONJOB.be":MAILTO:contact@jecreemonjob.be
END:VEVENT
BEGIN:VEVENT
DTSTART;TZID=UTC:20221021T083000
DTEND;TZID=UTC:20221021T150000
DTSTAMP:20260424T213134
CREATED:20201218T115037Z
LAST-MODIFIED:20201218T115037Z
UID:2705-1666341000-1666364400@jecreemonjob.be
SUMMARY:Formation: je crée mon site internet (1ère partie)
DESCRIPTION:Comment évaluer\, formuler et articuler mes besoins de\nvisibilité en ligne?\nQuels outils pour créer la page web de mon projet?\nComment évaluer et optimiser le référencement de mon site?\n\n \nAvec les chèques-formation à la création d’entreprise\, Jecréemonjob.be Vous propose un module de formation en ligne de 2X6h pour faire le tour de la question. \nFormation proposée dans le cadre du  système des Chèques-formation à la création d’entreprise. \nModule gratuit dans le cadre d’un accompagnement (6€/h hors accompagnement\, 30€/h hors conditions chèques création) \nRenseignez-vous auprès de votre conseillers ou de notre secrétariat pour les modalités d’inscription. \n(8h sont offertes aux membres du CLUBJECREEMONJOB.be)
URL:https://jecreemonjob.be/agenda/formation-je-cree-mon-site-internet-2022-10-21/
LOCATION:Bureau de Charleroi\, Avenue des Alliés\, 24\, Charleroi\, Hainaut\, 6000\, Belgique
CATEGORIES:Formations
ATTACH;FMTTYPE=image/png:https://jecreemonjob.be/wp-content/uploads/2020/10/8.-site-internet.png
ORGANIZER;CN="JECR%C3%89EMONJOB.be":MAILTO:contact@jecreemonjob.be
END:VEVENT
BEGIN:VEVENT
DTSTART;TZID=UTC:20221024T083000
DTEND;TZID=UTC:20221024T123000
DTSTAMP:20260424T213134
CREATED:20201007T093135Z
LAST-MODIFIED:20201007T093135Z
UID:2859-1666600200-1666614600@jecreemonjob.be
SUMMARY:Formation: Je gère mon affaire au quotidien
DESCRIPTION:Comment coordonner les différents aspects de la gestion quotidienne?\nMettre à l’épreuve mes compétences administratives\nComparer mon approche à celles d’autres entrepreneurs\n\n \nAvec les chèques-formation à la création d’entreprise\, Jecréemonjob.be Vous propose un module de formation de 4h pour faire le tour de la question. \nFormation proposée dans le cadre du  système des Chèques-formation à la création d’entreprise. \nModule gratuit dans le cadre d’un accompagnement (6€/h hors accompagnement\, 30€/h hors conditions chèques création) \nRenseignez-vous auprès de votre conseillers pour les modalités d’inscription \n(8h sont offertes aux membres du CLUBJECREEMONJOB.be)
URL:https://jecreemonjob.be/agenda/formation-gerer-son-affaire-au-quotidien-3-2022-10-24/
LOCATION:Site de Charleroi\, 24\, avenue des Alliés\, Charleroi\, 6000\, Belgique
CATEGORIES:Formations
ATTACH;FMTTYPE=image/png:https://jecreemonjob.be/wp-content/uploads/2020/10/4.-gerer-au-quotidien.png
ORGANIZER;CN="JECR%C3%89EMONJOB.be":MAILTO:contact@jecreemonjob.be
END:VEVENT
BEGIN:VEVENT
DTSTART;TZID=UTC:20221025T083000
DTEND;TZID=UTC:20221025T123000
DTSTAMP:20260424T213134
CREATED:20201007T083002Z
LAST-MODIFIED:20201007T083002Z
UID:2660-1666686600-1666701000@jecreemonjob.be
SUMMARY:Formation: La fiscalité des indépendants
DESCRIPTION:Que puis-je déduire comme charges? \nQuel impôt vais-je devoir payer? A quel moment? \nComment faire mieux et réduire l’impact de mes impôts en toute légalité?\n\n \nAvec les chèques-formation à la création d’entreprise\, Jecréemonjob.be Vous propose un module de formation en ligne de 4h pour faire le tour de la question. \nFormation proposée dans le cadre du  système des Chèques-formation à la création d’entreprise. \nModule gratuit dans le cadre d’un accompagnement (6€/h hors accompagnement\, 30€/h hors conditions chèques création) \nRenseignez-vous auprès de votre conseillers pour les modalités d’inscription \n(8h sont offertes aux membres du CLUBJECREEMONJOB.be)
URL:https://jecreemonjob.be/agenda/formation-la-fiscalite-des-independants-en-ligne-2022-10-25/
LOCATION:Site de Charleroi\, 24\, avenue des Alliés\, Charleroi\, 6000\, Belgique
CATEGORIES:Formations
ATTACH;FMTTYPE=image/png:https://jecreemonjob.be/wp-content/uploads/2020/10/5.-fiscalite.png
ORGANIZER;CN="JECR%C3%89EMONJOB.be":MAILTO:contact@jecreemonjob.be
END:VEVENT
END:VCALENDAR